BEGIN:VCALENDAR
VERSION:2.0
PRODID:-//lincolnbgc.org//NONSGML kigkonsult.se iCalcreator 2.30.10//
CALSCALE:GREGORIAN
METHOD:PUBLISH
UID:0b50e2bc-c25a-4937-b996-b33acf2fa00f
X-WR-CALDESC:
X-WR-RELCALID:25c461c6c026db8fe73c403b4b2c6b49
X-WR-TIMEZONE:America/Chicago
BEGIN:VTIMEZONE
TZID:America/Chicago
BEGIN:STANDARD
TZNAME:CST
DTSTART:20251102T020000
TZOFFSETFROM:-0500
TZOFFSETTO:-0600
RDATE:20261101T020000
END:STANDARD
BEGIN:DAYLIGHT
TZNAME:CDT
DTSTART:20260308T020000
TZOFFSETFROM:-0600
TZOFFSETTO:-0500
RDATE:20270314T020000
END:DAYLIGHT
END:VTIMEZONE
BEGIN:VEVENT
UID:afda7f6d-dfe4-4ac7-a952-82eac28eba6d
DTSTAMP:20260420T042920Z
DESCRIPTION:
DTSTART;TZID=America/Chicago:20260430T180000
DTEND;TZID=America/Chicago:20260430T193000
LOCATION:855 S 8th St\, Lincoln\, NE 68508 US
SUMMARY:Park Middle School Multicultural Night
END:VEVENT
END:VCALENDAR
